BEGIN:VCALENDAR
VERSION:2.0
PRODID:-//Town of Dundee, Florida - ECPv6.12.0.1//NONSGML v1.0//EN
CALSCALE:GREGORIAN
METHOD:PUBLISH
X-WR-CALNAME:Town of Dundee, Florida
X-ORIGINAL-URL:https://townofdundee.com
X-WR-CALDESC:Events for Town of Dundee, Florida
REFRESH-INTERVAL;VALUE=DURATION:PT1H
X-Robots-Tag:noindex
X-PUBLISHED-TTL:PT1H
BEGIN:VTIMEZONE
TZID:America/New_York
BEGIN:DAYLIGHT
TZOFFSETFROM:-0500
TZOFFSETTO:-0400
TZNAME:EDT
DTSTART:20210314T070000
END:DAYLIGHT
BEGIN:STANDARD
TZOFFSETFROM:-0400
TZOFFSETTO:-0500
TZNAME:EST
DTSTART:20211107T060000
END:STANDARD
END:VTIMEZONE
BEGIN:VEVENT
DTSTART;TZID=America/New_York:20211228T183000
DTEND;TZID=America/New_York:20211228T200000
DTSTAMP:20260424T093543
CREATED:20210114T154901Z
LAST-MODIFIED:20210930T160556Z
UID:5138-1640716200-1640721600@townofdundee.com
SUMMARY:CANCELLED- Town Commission Meeting
DESCRIPTION:The Town of Dundee has a Commission-Manager Form of government.  The Commission-Manager form of government combines the political leadership of elected officials in the form of a Town Commission with the managerial experience of an appointed local government manager.  The Town Commission appoints the Town Manager\, who in turn appoints and manages all other Town department staff. \nThe qualified voters of the Town of Dundee elect the Mayor and Town Commissioners at-large\, meaning they represent all of the citizens in Dundee.  The Mayor and Town Commissioners hold office for four-year terms. \nThe Dundee Town Commission meets the second and fourth Tuesday at 6:30 p.m. at the Town Hall Commission Chambers\, located at 202 East Main Street\, Dundee\, Florida. \nMeeting times\, dates and agendas are subject to change.  For current meeting information\, please check the website calendar or contact the Town Clerk at 863-438-8330 ext 258.
URL:https://townofdundee.com/event/town-commission-meeting-3-2021-12-28/
LOCATION:FL
CATEGORIES:Government Meeting
END:VEVENT
BEGIN:VEVENT
DTSTART;VALUE=DATE:20211225
DTEND;VALUE=DATE:20211226
DTSTAMP:20260424T093543
CREATED:20210610T143233Z
LAST-MODIFIED:20210610T143233Z
UID:5396-1640390400-1640476799@townofdundee.com
SUMMARY:Christmas
DESCRIPTION:
URL:https://townofdundee.com/event/christmas/
LOCATION:FL
END:VEVENT
BEGIN:VEVENT
DTSTART;TZID=America/New_York:20211224T080000
DTEND;TZID=America/New_York:20211224T170000
DTSTAMP:20260424T093543
CREATED:20210610T143125Z
LAST-MODIFIED:20210610T143125Z
UID:5394-1640332800-1640365200@townofdundee.com
SUMMARY:Christmas Eve- Town Offices/Facilities & Library CLOSED
DESCRIPTION:Town Offices/Facilities and the library will be closed in observance of the Holidays.
URL:https://townofdundee.com/event/christmas-eve-town-offices-facilities-library-closed/
LOCATION:Town Hall\, 202 E. Main Street\, Dundee\, 33838
CATEGORIES:Offices Closed
END:VEVENT
BEGIN:VEVENT
DTSTART;VALUE=DATE:20211223
DTEND;VALUE=DATE:20211224
DTSTAMP:20260424T093543
CREATED:20210610T142948Z
LAST-MODIFIED:20210610T142948Z
UID:5392-1640217600-1640303999@townofdundee.com
SUMMARY:Town Offices/Facilities & Library CLOSED
DESCRIPTION:Town Offices/Facilities and the library will be closed in observance of the Holidays.
URL:https://townofdundee.com/event/town-offices-facilities-library-closed-2/
LOCATION:Town Hall\, 202 E. Main Street\, Dundee\, 33838
CATEGORIES:Offices Closed
END:VEVENT
BEGIN:VEVENT
DTSTART;TZID=America/New_York:20211222T150000
DTEND;TZID=America/New_York:20211222T170000
DTSTAMP:20260424T093543
CREATED:20211216T150613Z
LAST-MODIFIED:20211216T222901Z
UID:5695-1640185200-1640192400@townofdundee.com
SUMMARY:Town Hall  & Library Closing at 3:00pm
DESCRIPTION:  \nPlease note the following Holiday Hours for the Town: \nDecember 22- Close 3:00pm \nDecember 23- CLOSED \nDecember 24- CLOSED \nDecember 31- CLOSED
URL:https://townofdundee.com/event/town-hall-library-closing-at-300pm/
LOCATION:Town Hall\, 202 E. Main Street\, Dundee\, 33838
CATEGORIES:Offices Closed
END:VEVENT
BEGIN:VEVENT
DTSTART;TZID=America/New_York:20211222T130000
DTEND;TZID=America/New_York:20211222T140000
DTSTAMP:20260424T093543
CREATED:20210114T153023Z
LAST-MODIFIED:20210610T143611Z
UID:5114-1640178000-1640181600@townofdundee.com
SUMMARY:CANCELLED- Special Magistrate for Code Enforcement Meeting
DESCRIPTION:CANCELLED: Special Magistrate for Code Enforcement Meeting
URL:https://townofdundee.com/event/special-magistrate-for-code-enforcement-meeting-2021-12-22/
LOCATION:FL
CATEGORIES:Government Meeting
END:VEVENT
BEGIN:VEVENT
DTSTART;TZID=America/New_York:20211217T083000
DTEND;TZID=America/New_York:20211217T113000
DTSTAMP:20260424T093543
CREATED:20210922T195706Z
LAST-MODIFIED:20210922T195706Z
UID:5606-1639729800-1639740600@townofdundee.com
SUMMARY:COVID Testing
DESCRIPTION:
URL:https://townofdundee.com/event/covid-testing-5/
LOCATION:Dundee Community Center\, 603 Lake Marie Boulevard\, Dundee\, FL\, 33838\, United States
CATEGORIES:COVID
END:VEVENT
BEGIN:VEVENT
DTSTART;TZID=America/New_York:20211216T181500
DTEND;TZID=America/New_York:20211216T201500
DTSTAMP:20260424T093543
CREATED:20210114T151926Z
LAST-MODIFIED:20210115T171815Z
UID:5093-1639678500-1639685700@townofdundee.com
SUMMARY:Planning & Zoning Board Meeting
DESCRIPTION:The Planning and Zoning Board serves as the Local Planning Agency for the Town of Dundee pursuant to the Local Government Comprehensive Planning and Land Development Regulation Act\, Ch. 163\, Part II\, Florida Statutes\, and perform all functions and duties prescribed in the statute.  As the Local Planning Agency\, the Planning and Zoning Board coordinates the comprehensive planning program and prepares the comprehensive plan\, elements\, or portion thereof for the Town of Dundee and recommends amendments to the Comprehensive Plan to the Town Commission for adoption as needed. \nIn addition to this role\, the Planning and Zoning Board advises and makes recommendations to the Town Commission regarding applications for amendments to the Official Zoning Map\, requests for Special Exceptions or other special designations on property within the Town\, and approval or denial of various development applications. \nThe Planning and Zoning Board is responsible for obtaining and maintaining information on population\, property values\, the land economy\, land use\, and other information necessary to assess the amount\, direction\, and type of development anticipated in the Town.  At the request of the Development Director\, the Planning and Zoning Board interprets and determines the intent of provisions of the Code that are unclear or in conflict with other regulations and considers the need for revision or addition of regulations in the Unified Land Development Code\, including the Land Development Regulations\, and recommend changes to the Town Commission. \nMeetings\nThe Planning and Zoning Board meets on the third Thursday of every month at 6:15 p.m. However\, the Chairman of the Planning and Zoning Board may set or cancel a meeting.  Please check the Community Calendar for the most recent scheduling status of an upcoming meeting.
URL:https://townofdundee.com/event/planning-zoning-board-meeting-2-2021-12-16/
LOCATION:Dundee Town Hall\, 202 E Main St\, Dundee\, FL\, 33838\, United States
CATEGORIES:Government Meeting
END:VEVENT
BEGIN:VEVENT
DTSTART;TZID=America/New_York:20211214T183000
DTEND;TZID=America/New_York:20211214T183000
DTSTAMP:20260424T093543
CREATED:20200113T214513Z
LAST-MODIFIED:20200113T214513Z
UID:5075-1639506600-1639506600@townofdundee.com
SUMMARY:Town Commission
DESCRIPTION:The Town of Dundee has a Commission-Manager Form of government.  The Commission-Manager form of government combines the political leadership of elected officials in the form of a Town Commission with the managerial experience of an appointed local government manager.  The Town Commission appoints the Town Manager\, who in turn appoints and manages all other Town department staff. \nThe qualified voters of the Town of Dundee elect the Mayor and Town Commissioners at-large\, meaning they represent all of the citizens in Dundee.  The Mayor and Town Commissioners hold office for four-year terms. \nThe Dundee Town Commission meets the second and fourth Tuesday at 6:30 p.m. at the Town Hall Commission Chambers\, located at 202 East Main Street\, Dundee \, Florida. \nMeeting times\, dates\, and agendas are subject to change.  For current meeting information\, please check the website calendar or contact the Town Clerk at 863-438-8330 ext 238.
URL:https://townofdundee.com/event/town-commission-2021-12-14/
LOCATION:Dundee Town Hall\, 202 E Main St\, Dundee\, FL\, 33838\, United States
CATEGORIES:Government Meeting
END:VEVENT
BEGIN:VEVENT
DTSTART;TZID=America/New_York:20211211T180000
DTEND;TZID=America/New_York:20211211T200000
DTSTAMP:20260424T093543
CREATED:20210908T203106Z
LAST-MODIFIED:20210908T203106Z
UID:5564-1639245600-1639252800@townofdundee.com
SUMMARY:Dundee "Candy Cane Christmas Parade"
DESCRIPTION:
URL:https://townofdundee.com/event/dundee-candy-cane-christmas-parade/
LOCATION:Dundee Main Street\, 202 Main Street\, Dundee\, FL\, 33838\, United States
CATEGORIES:Festivals/Celebrations
END:VEVENT
BEGIN:VEVENT
DTSTART;TZID=America/New_York:20211202T180000
DTEND;TZID=America/New_York:20211202T190000
DTSTAMP:20260424T093543
CREATED:20210908T201918Z
LAST-MODIFIED:20210908T201918Z
UID:5562-1638468000-1638471600@townofdundee.com
SUMMARY:Dundee "Candy Cane Christmas" Tree Lighting
DESCRIPTION:
URL:https://townofdundee.com/event/dundee-candy-cane-christmas-tree-lighting/
LOCATION:Dundee Community Center\, 603 Lake Marie Boulevard\, Dundee\, FL\, 33838\, United States
CATEGORIES:Festivals/Celebrations
END:VEVENT
BEGIN:VEVENT
DTSTART;TZID=America/New_York:20211130T183000
DTEND;TZID=America/New_York:20211130T183000
DTSTAMP:20260424T093543
CREATED:20211029T141843Z
LAST-MODIFIED:20211029T141955Z
UID:5647-1638297000-1638297000@townofdundee.com
SUMMARY:Town Commission
DESCRIPTION:
URL:https://townofdundee.com/event/town-commission-meeting-5/
LOCATION:Town Hall\, 202 E. Main Street\, Dundee\, 33838
CATEGORIES:Government Meeting
END:VEVENT
BEGIN:VEVENT
DTSTART;TZID=America/New_York:20211129T173000
DTEND;TZID=America/New_York:20211129T173000
DTSTAMP:20260424T093543
CREATED:20211116T165208Z
LAST-MODIFIED:20211116T165208Z
UID:5663-1638207000-1638207000@townofdundee.com
SUMMARY:Charter Review Committee
DESCRIPTION:
URL:https://townofdundee.com/event/charter-review-committee-2/
LOCATION:Town Hall\, 202 E. Main Street\, Dundee\, 33838
CATEGORIES:Government Meeting
END:VEVENT
BEGIN:VEVENT
DTSTART;VALUE=DATE:20211126
DTEND;VALUE=DATE:20211127
DTSTAMP:20260424T093543
CREATED:20210610T142808Z
LAST-MODIFIED:20210610T142808Z
UID:5390-1637884800-1637971199@townofdundee.com
SUMMARY:Town Offices/Facilities & Library Closed
DESCRIPTION:Town Offices/Facilities and the library will be closed in observance of the Thanksgiving holiday.
URL:https://townofdundee.com/event/town-offices-facilities-library-closed/
LOCATION:Town Hall\, 202 E. Main Street\, Dundee\, 33838
CATEGORIES:Offices Closed
END:VEVENT
BEGIN:VEVENT
DTSTART;TZID=America/New_York:20211125T080000
DTEND;TZID=America/New_York:20211125T170000
DTSTAMP:20260424T093543
CREATED:20210610T142647Z
LAST-MODIFIED:20210610T142647Z
UID:5388-1637827200-1637859600@townofdundee.com
SUMMARY:Thanksgiving- Town Hall & Library Closed
DESCRIPTION:Town Offices/Facilities and the library will be closed in observance of the Thanksgiving holiday.
URL:https://townofdundee.com/event/thanksgiving-town-hall-library-closed/
LOCATION:Town Hall\, 202 E. Main Street\, Dundee\, 33838
CATEGORIES:Offices Closed
END:VEVENT
BEGIN:VEVENT
DTSTART;TZID=America/New_York:20211124T130000
DTEND;TZID=America/New_York:20211124T170000
DTSTAMP:20260424T093543
CREATED:20211123T183624Z
LAST-MODIFIED:20211123T183625Z
UID:5670-1637758800-1637773200@townofdundee.com
SUMMARY:Town Hall & Library Closing Early at 1:00pm
DESCRIPTION:
URL:https://townofdundee.com/event/town-hall-library-closing-early-at-100pm/
LOCATION:Town Hall\, 202 E. Main Street\, Dundee\, 33838
CATEGORIES:Offices Closed
END:VEVENT
BEGIN:VEVENT
DTSTART;TZID=America/New_York:20211124T130000
DTEND;TZID=America/New_York:20211124T140000
DTSTAMP:20260424T093543
CREATED:20210114T153023Z
LAST-MODIFIED:20211118T134428Z
UID:5113-1637758800-1637762400@townofdundee.com
SUMMARY:CANCELLED- Special Magistrate for Code Enforcement Meeting
DESCRIPTION:Special Magistrate for Code Enforcement Meeting
URL:https://townofdundee.com/event/special-magistrate-for-code-enforcement-meeting-2021-11-24/
LOCATION:FL
CATEGORIES:Government Meeting
END:VEVENT
BEGIN:VEVENT
DTSTART;TZID=America/New_York:20211123T183000
DTEND;TZID=America/New_York:20211123T200000
DTSTAMP:20260424T093543
CREATED:20210114T154901Z
LAST-MODIFIED:20210930T160652Z
UID:5137-1637692200-1637697600@townofdundee.com
SUMMARY:CANCELLED- Town Commission Meeting
DESCRIPTION:The Town of Dundee has a Commission-Manager Form of government.  The Commission-Manager form of government combines the political leadership of elected officials in the form of a Town Commission with the managerial experience of an appointed local government manager.  The Town Commission appoints the Town Manager\, who in turn appoints and manages all other Town department staff. \nThe qualified voters of the Town of Dundee elect the Mayor and Town Commissioners at-large\, meaning they represent all of the citizens in Dundee.  The Mayor and Town Commissioners hold office for four-year terms. \nThe Dundee Town Commission meets the second and fourth Tuesday at 6:30 p.m. at the Town Hall Commission Chambers\, located at 202 East Main Street\, Dundee\, Florida. \nMeeting times\, dates and agendas are subject to change.  For current meeting information\, please check the website calendar or contact the Town Clerk at 863-438-8330 ext 258.
URL:https://townofdundee.com/event/town-commission-meeting-3-2021-11-23/
LOCATION:FL
CATEGORIES:Government Meeting
END:VEVENT
BEGIN:VEVENT
DTSTART;TZID=America/New_York:20211122T173000
DTEND;TZID=America/New_York:20211122T183000
DTSTAMP:20260424T093543
CREATED:20211116T165303Z
LAST-MODIFIED:20211116T165303Z
UID:5665-1637602200-1637605800@townofdundee.com
SUMMARY:Charter Review Committee
DESCRIPTION:
URL:https://townofdundee.com/event/charter-review-committee-3/
LOCATION:Town Hall\, 202 E. Main Street\, Dundee\, 33838
CATEGORIES:Government Meeting
END:VEVENT
BEGIN:VEVENT
DTSTART;TZID=America/New_York:20211118T181500
DTEND;TZID=America/New_York:20211118T201500
DTSTAMP:20260424T093543
CREATED:20210114T151926Z
LAST-MODIFIED:20210115T171815Z
UID:5092-1637259300-1637266500@townofdundee.com
SUMMARY:Planning & Zoning Board Meeting
DESCRIPTION:The Planning and Zoning Board serves as the Local Planning Agency for the Town of Dundee pursuant to the Local Government Comprehensive Planning and Land Development Regulation Act\, Ch. 163\, Part II\, Florida Statutes\, and perform all functions and duties prescribed in the statute.  As the Local Planning Agency\, the Planning and Zoning Board coordinates the comprehensive planning program and prepares the comprehensive plan\, elements\, or portion thereof for the Town of Dundee and recommends amendments to the Comprehensive Plan to the Town Commission for adoption as needed. \nIn addition to this role\, the Planning and Zoning Board advises and makes recommendations to the Town Commission regarding applications for amendments to the Official Zoning Map\, requests for Special Exceptions or other special designations on property within the Town\, and approval or denial of various development applications. \nThe Planning and Zoning Board is responsible for obtaining and maintaining information on population\, property values\, the land economy\, land use\, and other information necessary to assess the amount\, direction\, and type of development anticipated in the Town.  At the request of the Development Director\, the Planning and Zoning Board interprets and determines the intent of provisions of the Code that are unclear or in conflict with other regulations and considers the need for revision or addition of regulations in the Unified Land Development Code\, including the Land Development Regulations\, and recommend changes to the Town Commission. \nMeetings\nThe Planning and Zoning Board meets on the third Thursday of every month at 6:15 p.m. However\, the Chairman of the Planning and Zoning Board may set or cancel a meeting.  Please check the Community Calendar for the most recent scheduling status of an upcoming meeting.
URL:https://townofdundee.com/event/planning-zoning-board-meeting-2-2021-11-18/
LOCATION:Dundee Town Hall\, 202 E Main St\, Dundee\, FL\, 33838\, United States
CATEGORIES:Government Meeting
END:VEVENT
BEGIN:VEVENT
DTSTART;TZID=America/New_York:20211118T170000
DTEND;TZID=America/New_York:20211118T180000
DTSTAMP:20260424T093543
CREATED:20210114T152253Z
LAST-MODIFIED:20211116T165015Z
UID:5101-1637254800-1637258400@townofdundee.com
SUMMARY:CANCELLED- Tree Board Meeting
DESCRIPTION:We are officially a TREE CITY USA! \nOn the Dundee Tree Board\, residents provide oversight and advice to town management regarding the beautification of the town through the maintenance of the town’s trees\, public flora\, and use of the town tree’s fund. It shall be the responsibility of the Board to study\, investigate\, counsel\, develop\, update annually\, and administer a written plan for the care\, preservation\, pruning\, planting\, replanting\, removal\, or disposition of trees and shrubs in parks\, along streets\, and in other areas of the town.
URL:https://townofdundee.com/event/tree-board-meeting-2021-11-18/
LOCATION:FL
CATEGORIES:Government Meeting
END:VEVENT
BEGIN:VEVENT
DTSTART;VALUE=DATE:20211111
DTEND;VALUE=DATE:20211112
DTSTAMP:20260424T093543
CREATED:20210610T141108Z
LAST-MODIFIED:20210610T141108Z
UID:5386-1636588800-1636675199@townofdundee.com
SUMMARY:Veterans Day- Town Hall & Library CLOSED
DESCRIPTION:Town Hall and the Library will be closed in observance of Veterans Day.
URL:https://townofdundee.com/event/veterans-day-town-hall-library-closed/
LOCATION:Town Hall\, 202 E. Main Street\, Dundee\, 33838
CATEGORIES:Offices Closed
END:VEVENT
BEGIN:VEVENT
DTSTART;TZID=America/New_York:20211110T173000
DTEND;TZID=America/New_York:20211110T183000
DTSTAMP:20260424T093543
CREATED:20211108T195753Z
LAST-MODIFIED:20211108T195953Z
UID:5654-1636565400-1636569000@townofdundee.com
SUMMARY:Charter Review Committee Meeting
DESCRIPTION:
URL:https://townofdundee.com/event/20211110-charter-review-committee-meeting/
LOCATION:Town Hall\, 202 E. Main Street\, Dundee\, 33838
CATEGORIES:Government Meeting
END:VEVENT
BEGIN:VEVENT
DTSTART;TZID=America/New_York:20211109T183000
DTEND;TZID=America/New_York:20211109T183000
DTSTAMP:20260424T093543
CREATED:20200113T214513Z
LAST-MODIFIED:20200113T214513Z
UID:5074-1636482600-1636482600@townofdundee.com
SUMMARY:Town Commission
DESCRIPTION:The Town of Dundee has a Commission-Manager Form of government.  The Commission-Manager form of government combines the political leadership of elected officials in the form of a Town Commission with the managerial experience of an appointed local government manager.  The Town Commission appoints the Town Manager\, who in turn appoints and manages all other Town department staff. \nThe qualified voters of the Town of Dundee elect the Mayor and Town Commissioners at-large\, meaning they represent all of the citizens in Dundee.  The Mayor and Town Commissioners hold office for four-year terms. \nThe Dundee Town Commission meets the second and fourth Tuesday at 6:30 p.m. at the Town Hall Commission Chambers\, located at 202 East Main Street\, Dundee \, Florida. \nMeeting times\, dates\, and agendas are subject to change.  For current meeting information\, please check the website calendar or contact the Town Clerk at 863-438-8330 ext 238.
URL:https://townofdundee.com/event/town-commission-2021-11-09/
LOCATION:Dundee Town Hall\, 202 E Main St\, Dundee\, FL\, 33838\, United States
CATEGORIES:Government Meeting
END:VEVENT
BEGIN:VEVENT
DTSTART;TZID=America/New_York:20211103T170000
DTEND;TZID=America/New_York:20211103T170000
DTSTAMP:20260424T093543
CREATED:20211029T143707Z
LAST-MODIFIED:20211029T143707Z
UID:5650-1635958800-1635958800@townofdundee.com
SUMMARY:Charter Review Committee
DESCRIPTION:
URL:https://townofdundee.com/event/charter-review-committee/
LOCATION:Town Hall\, 202 E. Main Street\, Dundee\, 33838
CATEGORIES:Government Meeting
END:VEVENT
BEGIN:VEVENT
DTSTART;TZID=America/New_York:20211101T083000
DTEND;TZID=America/New_York:20211101T113000
DTSTAMP:20260424T093543
CREATED:20210922T195621Z
LAST-MODIFIED:20210922T195621Z
UID:5604-1635755400-1635766200@townofdundee.com
SUMMARY:COVID Testing
DESCRIPTION:
URL:https://townofdundee.com/event/covid-testing-4/
LOCATION:Dundee Community Center\, 603 Lake Marie Boulevard\, Dundee\, FL\, 33838\, United States
CATEGORIES:COVID
END:VEVENT
BEGIN:VEVENT
DTSTART;TZID=America/New_York:20211030T103000
DTEND;TZID=America/New_York:20211030T120000
DTSTAMP:20260424T093543
CREATED:20210826T161820Z
LAST-MODIFIED:20210910T170219Z
UID:5532-1635589800-1635595200@townofdundee.com
SUMMARY:CANCELLED Adult Computer Assistance
DESCRIPTION:
URL:https://townofdundee.com/event/adult-computer-assistance-2/
LOCATION:Dundee Public Library\, 202 E. Main Street\, Dundee\, FL\, 33838\, United States
CATEGORIES:Library Event
END:VEVENT
BEGIN:VEVENT
DTSTART;TZID=America/New_York:20211029T103000
DTEND;TZID=America/New_York:20211029T120000
DTSTAMP:20260424T093543
CREATED:20210826T163429Z
LAST-MODIFIED:20210910T170326Z
UID:5558-1635503400-1635508800@townofdundee.com
SUMMARY:CANCELLED Resume Assistance
DESCRIPTION:
URL:https://townofdundee.com/event/resume-assistance-5/
LOCATION:Dundee Public Library\, 202 E. Main Street\, Dundee\, FL\, 33838\, United States
CATEGORIES:Library Event
END:VEVENT
BEGIN:VEVENT
DTSTART;TZID=America/New_York:20211027T130000
DTEND;TZID=America/New_York:20211027T140000
DTSTAMP:20260424T093543
CREATED:20210114T153023Z
LAST-MODIFIED:20211020T202901Z
UID:5112-1635339600-1635343200@townofdundee.com
SUMMARY:CANCELLED Special Magistrate for Code Enforcement Meeting
DESCRIPTION:Special Magistrate for Code Enforcement Meeting
URL:https://townofdundee.com/event/special-magistrate-for-code-enforcement-meeting-2021-10-27/
LOCATION:FL
CATEGORIES:Government Meeting
END:VEVENT
BEGIN:VEVENT
DTSTART;TZID=America/New_York:20211027T103000
DTEND;TZID=America/New_York:20211027T120000
DTSTAMP:20260424T093543
CREATED:20210826T162543Z
LAST-MODIFIED:20210910T170050Z
UID:5544-1635330600-1635336000@townofdundee.com
SUMMARY:CANCELLED Adult Computer Assistance
DESCRIPTION:
URL:https://townofdundee.com/event/adult-computer-assistance-6/
LOCATION:Dundee Public Library\, 202 E. Main Street\, Dundee\, FL\, 33838\, United States
CATEGORIES:Library Event
END:VEVENT
END:VCALENDAR