BEGIN:VCALENDAR
VERSION:2.0
PRODID:-//Town of Dundee, Florida - ECPv6.12.0.1//NONSGML v1.0//EN
CALSCALE:GREGORIAN
METHOD:PUBLISH
X-WR-CALNAME:Town of Dundee, Florida
X-ORIGINAL-URL:https://townofdundee.com
X-WR-CALDESC:Events for Town of Dundee, Florida
REFRESH-INTERVAL;VALUE=DURATION:PT1H
X-Robots-Tag:noindex
X-PUBLISHED-TTL:PT1H
BEGIN:VTIMEZONE
TZID:America/New_York
BEGIN:DAYLIGHT
TZOFFSETFROM:-0500
TZOFFSETTO:-0400
TZNAME:EDT
DTSTART:20220313T070000
END:DAYLIGHT
BEGIN:STANDARD
TZOFFSETFROM:-0400
TZOFFSETTO:-0500
TZNAME:EST
DTSTART:20221106T060000
END:STANDARD
BEGIN:DAYLIGHT
TZOFFSETFROM:-0500
TZOFFSETTO:-0400
TZNAME:EDT
DTSTART:20230312T070000
END:DAYLIGHT
BEGIN:STANDARD
TZOFFSETFROM:-0400
TZOFFSETTO:-0500
TZNAME:EST
DTSTART:20231105T060000
END:STANDARD
END:VTIMEZONE
BEGIN:VEVENT
DTSTART;VALUE=DATE:20230208
DTEND;VALUE=DATE:20230209
DTSTAMP:20260424T052626
CREATED:20230202T213806Z
LAST-MODIFIED:20230202T214112Z
UID:6897-1675814400-1675900799@townofdundee.com
SUMMARY:RFP 23-01 RENOVATION AND REMODEL OF THE DUNDEE FIRE DEPARTMENT
DESCRIPTION:REQUEST FOR PROPOSAL (RFP)\nRFP #23-01 \nSealed proposals will be received by the Town of Dundee until 4:00 P.M. on Tuesday\, March 07\, 2023 at the Office of the Town Clerk located at 202 E. Main Street\, for the Renovation and Remodel of the Dundee Fire Department. \nRFP 23-01 FY 2022 – 2023 \nRENOVATION AND REMODEL OF THE DUNDEE FIRE DEPARTMENT \n All questions regarding this solicitation must be received in writing no later than Wednesday\, February 22\, 2023\, at 3:30 P.M. A mandatory site visit is scheduled for 10:30 A.M. Wednesday\, February 15\, 2023\, and a mandatory pre-bid meeting is scheduled for 11:15 A.M. Wednesday\, February 15\, 2023. A proposal opening and review is scheduled for Wednesday\, March 08\, 2023 at 2:00 P.M. \nCopies of the RFP are available from the Town Clerk at Dundee Town Hall\, 202 Main Street\, Dundee\, FL 33838 and at www.TownofDundee.com .
URL:https://townofdundee.com/event/rfp-23-01-renovation-and-remodel-of-the-dundee-fire-department/
LOCATION:Town Hall\, 202 E. Main Street\, Dundee\, 33838
CATEGORIES:Purchasing & Procurement
END:VEVENT
BEGIN:VEVENT
DTSTART;TZID=America/New_York:20230202T100000
DTEND;TZID=America/New_York:20230202T140000
DTSTAMP:20260424T052626
CREATED:20230112T184239Z
LAST-MODIFIED:20230112T184239Z
UID:6844-1675332000-1675346400@townofdundee.com
SUMMARY:Catholic Charites Senior Services Meeting
DESCRIPTION:
URL:https://townofdundee.com/event/catholic-charites-senior-services-meeting/
LOCATION:Dundee Community Center\, 603 Lake Marie Boulevard\, Dundee\, FL\, 33838\, United States
CATEGORIES:Senior Services
END:VEVENT
BEGIN:VEVENT
DTSTART;TZID=America/New_York:20230131T130000
DTEND;TZID=America/New_York:20230131T130000
DTSTAMP:20260424T052626
CREATED:20230106T155702Z
LAST-MODIFIED:20230127T143751Z
UID:6754-1675170000-1675170000@townofdundee.com
SUMMARY:CANCELLED - Special Magistrate for Code Enforcement Meeting
DESCRIPTION:Special Magistrate for Code Enforcement Meeting.
URL:https://townofdundee.com/event/special-magistrate-for-code-enforcement-meeting-12/
LOCATION:Town Hall Commission Chambers\, 202 East Main Street\, Dundee\, FL\, 33838\, United States
CATEGORIES:Government Meeting
END:VEVENT
BEGIN:VEVENT
DTSTART;TZID=America/New_York:20230128T190000
DTEND;TZID=America/New_York:20230128T203000
DTSTAMP:20260424T052626
CREATED:20230109T205322Z
LAST-MODIFIED:20230109T205322Z
UID:6787-1674932400-1674937800@townofdundee.com
SUMMARY:Drive-In Cinema Family Movie Night
DESCRIPTION:
URL:https://townofdundee.com/event/drive-in-cinema-family-movie-night/
LOCATION:Dundee Public Library\, 202 E. Main Street\, Dundee\, FL\, 33838\, United States
CATEGORIES:Festivals/Celebrations
END:VEVENT
BEGIN:VEVENT
DTSTART;TZID=America/New_York:20230126T100000
DTEND;TZID=America/New_York:20230126T140000
DTSTAMP:20260424T052626
CREATED:20230112T183933Z
LAST-MODIFIED:20230112T183933Z
UID:6840-1674727200-1674741600@townofdundee.com
SUMMARY:Catholic Charities Senior Services Meeting
DESCRIPTION:
URL:https://townofdundee.com/event/catholic-charities-senior-services-meeting/
LOCATION:Dundee Community Center\, 603 Lake Marie Boulevard\, Dundee\, FL\, 33838\, United States
CATEGORIES:Senior Services
END:VEVENT
BEGIN:VEVENT
DTSTART;TZID=America/New_York:20230124T183000
DTEND;TZID=America/New_York:20230124T183000
DTSTAMP:20260424T052626
CREATED:20230105T205603Z
LAST-MODIFIED:20230105T205603Z
UID:6657-1674585000-1674585000@townofdundee.com
SUMMARY:Town Commission
DESCRIPTION:The Town of Dundee has a Commission-Manager Form of government.  The Commission-Manager form of government combines the political leadership of elected officials in the form of a Town Commission with the managerial experience of an appointed local government manager.  The Town Commission appoints the Town Manager\, who in turn appoints and manages all other Town department staff. \nThe qualified voters of the Town of Dundee elect the Mayor and Town Commissioners at-large\, meaning they represent all of the citizens in Dundee.  The Mayor and Town Commissioners hold office for four-year terms. \nThe Dundee Town Commission meets the second and fourth Tuesday at 6:30 p.m. at the Town Hall Commission Chambers\, located at 202 East Main Street\, Dundee\, Florida. \nMeeting times\, dates\, and agendas are subject to change.  For current meeting information\, please check the website calendar or contact the Town Clerk at 863-438-8330 ext. 258.
URL:https://townofdundee.com/event/town-commission-9/
LOCATION:Town Hall Commission Chambers\, 202 East Main Street\, Dundee\, FL\, 33838\, United States
CATEGORIES:Government Meeting
END:VEVENT
BEGIN:VEVENT
DTSTART;TZID=America/New_York:20230120T130000
DTEND;TZID=America/New_York:20230120T140000
DTSTAMP:20260424T052626
CREATED:20230110T132205Z
LAST-MODIFIED:20230110T132251Z
UID:6792-1674219600-1674223200@townofdundee.com
SUMMARY:Computer Basics
DESCRIPTION:
URL:https://townofdundee.com/event/computer-basics/
LOCATION:Dundee Public Library\, 202 E. Main Street\, Dundee\, FL\, 33838\, United States
CATEGORIES:Library Event
END:VEVENT
BEGIN:VEVENT
DTSTART;TZID=America/New_York:20230119T173000
DTEND;TZID=America/New_York:20230119T173000
DTSTAMP:20260424T052626
CREATED:20230106T143331Z
LAST-MODIFIED:20230106T143331Z
UID:6727-1674149400-1674149400@townofdundee.com
SUMMARY:Planning & Zoning Board Meeting
DESCRIPTION:The Planning and Zoning Board serves as the Local Planning Agency for the Town of Dundee pursuant to the Local Government Comprehensive Planning and Land Development Regulation Act\, Ch. 163\, Part II\, Florida Statutes\, and perform all functions and duties prescribed in the statute.  As the Local Planning Agency\, the Planning and Zoning Board coordinates the comprehensive planning program and prepares the comprehensive plan\, elements\, or portion thereof for the Town of Dundee and recommends amendments to the Comprehensive Plan to the Town Commission for adoption as needed. \nIn addition to this role\, the Planning and Zoning Board advises and makes recommendations to the Town Commission regarding applications for amendments to the Official Zoning Map\, requests for Special Exceptions or other special designations on property within the Town\, and approval or denial of various development applications. \nThe Planning and Zoning Board is responsible for obtaining and maintaining information on population\, property values\, the land economy\, land use\, and other information necessary to assess the amount\, direction\, and type of development anticipated in the Town.  At the request of the Development Director\, the Planning and Zoning Board interprets and determines the intent of provisions of the Code that are unclear or in conflict with other regulations and considers the need for revision or addition of regulations in the Unified Land Development Code\, including the Land Development Regulations\, and recommend changes to the Town Commission. \nMeetings\nThe Planning and Zoning Board meets on the third Thursday of every month at 5:30p.m. However\, the Chairman of the Planning and Zoning Board may set or cancel a meeting.  Please check the Community Calendar for the most recent scheduling status of an upcoming meeting.
URL:https://townofdundee.com/event/planning-zoning-board-meeting-15/
LOCATION:Town Hall Commission Chambers\, 202 East Main Street\, Dundee\, FL\, 33838\, United States
CATEGORIES:Government Meeting
END:VEVENT
BEGIN:VEVENT
DTSTART;TZID=America/New_York:20230119T100000
DTEND;TZID=America/New_York:20230119T140000
DTSTAMP:20260424T052627
CREATED:20230112T182518Z
LAST-MODIFIED:20230112T182720Z
UID:6831-1674122400-1674136800@townofdundee.com
SUMMARY:Catholic Charities Senior Wellness Services Meeting
DESCRIPTION: 
URL:https://townofdundee.com/event/catholic-charities-senior-wellness-services-meeting/
LOCATION:Dundee Community Center\, 603 Lake Marie Boulevard\, Dundee\, FL\, 33838\, United States
CATEGORIES:Senior Services
END:VEVENT
BEGIN:VEVENT
DTSTART;TZID=America/New_York:20230118T170000
DTEND;TZID=America/New_York:20230118T170000
DTSTAMP:20260424T052627
CREATED:20230106T130038Z
LAST-MODIFIED:20230106T131242Z
UID:6709-1674061200-1674061200@townofdundee.com
SUMMARY:Tree Board Meeting
DESCRIPTION:We are officially a TREE CITY USA and a TREE CITY OF THE WORLD! \nOn the Dundee Tree Board\, residents provide oversight and advice to town management regarding the beautification of the town through the maintenance of the town’s trees\, public flora\, and use of the town tree’s fund. It shall be the responsibility of the Board to study\, investigate\, counsel\, develop\, update annually\, and administer a written plan for the care\, preservation\, pruning\, planting\, replanting\, removal\, or disposition of trees and shrubs in parks\, along streets\, and in other areas of the town.
URL:https://townofdundee.com/event/tree-board-meeting-10/
LOCATION:Town Hall Commission Chambers\, 202 East Main Street\, Dundee\, FL\, 33838\, United States
CATEGORIES:Government Meeting
END:VEVENT
BEGIN:VEVENT
DTSTART;TZID=America/New_York:20230116T080000
DTEND;TZID=America/New_York:20230116T170000
DTSTAMP:20260424T052627
CREATED:20230109T182439Z
LAST-MODIFIED:20230109T182439Z
UID:6784-1673856000-1673888400@townofdundee.com
SUMMARY:Martin Luther King Day - Offices Closed
DESCRIPTION:Town Offices/Facilities and the Library will be closed in observance of the Martin Luther King Holiday.
URL:https://townofdundee.com/event/martin-luther-king-day-offices-closed/
LOCATION:Town Hall\, 202 E. Main Street\, Dundee\, 33838
CATEGORIES:Offices Closed
END:VEVENT
BEGIN:VEVENT
DTSTART;TZID=America/New_York:20230112T100000
DTEND;TZID=America/New_York:20230112T140000
DTSTAMP:20260424T052627
CREATED:20230112T185347Z
LAST-MODIFIED:20230112T185347Z
UID:6848-1673517600-1673532000@townofdundee.com
SUMMARY:Catholic Charites Senior Services Meeting
DESCRIPTION:
URL:https://townofdundee.com/event/catholic-charites-senior-services-meeting-2/
LOCATION:Dundee Community Center\, 603 Lake Marie Boulevard\, Dundee\, FL\, 33838\, United States
CATEGORIES:Senior Services
END:VEVENT
BEGIN:VEVENT
DTSTART;TZID=America/New_York:20230110T183000
DTEND;TZID=America/New_York:20230110T183000
DTSTAMP:20260424T052627
CREATED:20230105T204903Z
LAST-MODIFIED:20230105T204903Z
UID:6654-1673375400-1673375400@townofdundee.com
SUMMARY:Town Commission
DESCRIPTION:The Town of Dundee has a Commission-Manager Form of government.  The Commission-Manager form of government combines the political leadership of elected officials in the form of a Town Commission with the managerial experience of an appointed local government manager.  The Town Commission appoints the Town Manager\, who in turn appoints and manages all other Town department staff. \nThe qualified voters of the Town of Dundee elect the Mayor and Town Commissioners at-large\, meaning they represent all of the citizens in Dundee.  The Mayor and Town Commissioners hold office for four-year terms. \nThe Dundee Town Commission meets the second and fourth Tuesday at 6:30 p.m. at the Town Hall Commission Chambers\, located at 202 East Main Street\, Dundee \, Florida. \nMeeting times\, dates\, and agendas are subject to change.  For current meeting information\, please check the website calendar or contact the Town Clerk at 863-438-8330 ext. 258.
URL:https://townofdundee.com/event/town-commission-8/
LOCATION:Town Hall Commission Chambers\, 202 East Main Street\, Dundee\, FL\, 33838\, United States
CATEGORIES:Government Meeting
END:VEVENT
BEGIN:VEVENT
DTSTART;TZID=America/New_York:20221229T090000
DTEND;TZID=America/New_York:20221229T150000
DTSTAMP:20260424T052627
CREATED:20220921T133259Z
LAST-MODIFIED:20220921T133903Z
UID:6491-1672304400-1672326000@townofdundee.com
SUMMARY:OneBlood Drive
DESCRIPTION:
URL:https://townofdundee.com/event/oneblood-drive-2/
LOCATION:Town Hall\, 202 E. Main Street\, Dundee\, 33838
END:VEVENT
BEGIN:VEVENT
DTSTART;TZID=America/New_York:20221227T183000
DTEND;TZID=America/New_York:20221227T183000
DTSTAMP:20260424T052627
CREATED:20211220T220612Z
LAST-MODIFIED:20221014T120056Z
UID:5840-1672165800-1672165800@townofdundee.com
SUMMARY:CANCELLED Town Commission Meeting
DESCRIPTION:The Town of Dundee has a Commission-Manager Form of government.  The Commission-Manager form of government combines the political leadership of elected officials in the form of a Town Commission with the managerial experience of an appointed local government manager.  The Town Commission appoints the Town Manager\, who in turn appoints and manages all other Town department staff. \nThe qualified voters of the Town of Dundee elect the Mayor and Town Commissioners at-large\, meaning they represent all of the citizens in Dundee.  The Mayor and Town Commissioners hold office for four-year terms. \nThe Dundee Town Commission meets the second and fourth Tuesday at 6:30 p.m. at the Town Hall Commission Chambers\, located at 202 East Main Street\, Dundee \, Florida. \nMeeting times\, dates\, and agendas are subject to change.  For current meeting information\, please check the website calendar or contact the Town Clerk at 863-438-8330 ext. 258.
URL:https://townofdundee.com/event/town-commission-meeting-25/
LOCATION:Town Hall\, 202 E. Main Street\, Dundee\, 33838
CATEGORIES:Government Meeting
END:VEVENT
BEGIN:VEVENT
DTSTART;TZID=America/New_York:20221226T080000
DTEND;TZID=America/New_York:20221226T170000
DTSTAMP:20260424T052627
CREATED:20211220T220432Z
LAST-MODIFIED:20211220T220432Z
UID:5836-1672041600-1672074000@townofdundee.com
SUMMARY:Town Offices/Facilities & Library CLOSED
DESCRIPTION:Town Offices/Facilities and the library will be closed in observance of the Holidays.
URL:https://townofdundee.com/event/town-offices-facilities-library-closed-4/
LOCATION:Town Hall\, 202 E. Main Street\, Dundee\, 33838
CATEGORIES:Offices Closed
END:VEVENT
BEGIN:VEVENT
DTSTART;TZID=America/New_York:20221224T080000
DTEND;TZID=America/New_York:20221224T170000
DTSTAMP:20260424T052627
CREATED:20211220T220328Z
LAST-MODIFIED:20211220T220336Z
UID:5834-1671868800-1671901200@townofdundee.com
SUMMARY:Town Offices/Facilities & Library CLOSED
DESCRIPTION:Town Offices/Facilities and the library will be closed in observance of the Holidays.
URL:https://townofdundee.com/event/town-offices-facilities-library-closed-3/
LOCATION:Town Hall\, 202 E. Main Street\, Dundee\, 33838
CATEGORIES:Offices Closed
END:VEVENT
BEGIN:VEVENT
DTSTART;TZID=America/New_York:20221222T173000
DTEND;TZID=America/New_York:20221222T173000
DTSTAMP:20260424T052627
CREATED:20211220T220232Z
LAST-MODIFIED:20211220T220232Z
UID:5832-1671730200-1671730200@townofdundee.com
SUMMARY:Planning & Zoning Board Meeting
DESCRIPTION:The Planning and Zoning Board serves as the Local Planning Agency for the Town of Dundee pursuant to the Local Government Comprehensive Planning and Land Development Regulation Act\, Ch. 163\, Part II\, Florida Statutes\, and perform all functions and duties prescribed in the statute.  As the Local Planning Agency\, the Planning and Zoning Board coordinates the comprehensive planning program and prepares the comprehensive plan\, elements\, or portion thereof for the Town of Dundee and recommends amendments to the Comprehensive Plan to the Town Commission for adoption as needed. \nIn addition to this role\, the Planning and Zoning Board advises and makes recommendations to the Town Commission regarding applications for amendments to the Official Zoning Map\, requests for Special Exceptions or other special designations on property within the Town\, and approval or denial of various development applications. \nThe Planning and Zoning Board is responsible for obtaining and maintaining information on population\, property values\, the land economy\, land use\, and other information necessary to assess the amount\, direction\, and type of development anticipated in the Town.  At the request of the Development Director\, the Planning and Zoning Board interprets and determines the intent of provisions of the Code that are unclear or in conflict with other regulations and considers the need for revision or addition of regulations in the Unified Land Development Code\, including the Land Development Regulations\, and recommend changes to the Town Commission. \nMeetings \nThe Planning and Zoning Board meets on the third Thursday of every month at 5:30p.m. However\, the Chairman of the Planning and Zoning Board may set or cancel a meeting.  Please check the Community Calendar for the most recent scheduling status of an upcoming meeting.
URL:https://townofdundee.com/event/planning-zoning-board-meeting-14/
LOCATION:Town Hall\, 202 E. Main Street\, Dundee\, 33838
CATEGORIES:Government Meeting
END:VEVENT
BEGIN:VEVENT
DTSTART;TZID=America/New_York:20221220T130000
DTEND;TZID=America/New_York:20221220T130000
DTSTAMP:20260424T052627
CREATED:20211220T220519Z
LAST-MODIFIED:20221130T152700Z
UID:5838-1671541200-1671541200@townofdundee.com
SUMMARY:RESCHEDULED Special Magistrate of Code Enforcement
DESCRIPTION:
URL:https://townofdundee.com/event/special-magistrate-of-code-enforcement/
LOCATION:Town Hall\, 202 E. Main Street\, Dundee\, 33838
CATEGORIES:Government Meeting
END:VEVENT
BEGIN:VEVENT
DTSTART;TZID=America/New_York:20221217T170000
DTEND;TZID=America/New_York:20221217T200000
DTSTAMP:20260424T052627
CREATED:20221103T160422Z
LAST-MODIFIED:20221103T160422Z
UID:6601-1671296400-1671307200@townofdundee.com
SUMMARY:Christmas Movie Night with Santa
DESCRIPTION:
URL:https://townofdundee.com/event/christmas-movie-night-with-santa/
LOCATION:MARGARET KAMPSEN HISTORIC TRAIN DEPOT\, 103 Main Street\, Dundee\, FL\, 33838\, United States
CATEGORIES:Festivals/Celebrations
END:VEVENT
BEGIN:VEVENT
DTSTART;TZID=America/New_York:20221213T183000
DTEND;TZID=America/New_York:20221213T183000
DTSTAMP:20260424T052627
CREATED:20211220T220137Z
LAST-MODIFIED:20211220T220137Z
UID:5830-1670956200-1670956200@townofdundee.com
SUMMARY:Town Commission Meeting
DESCRIPTION:The Town of Dundee has a Commission-Manager Form of government.  The Commission-Manager form of government combines the political leadership of elected officials in the form of a Town Commission with the managerial experience of an appointed local government manager.  The Town Commission appoints the Town Manager\, who in turn appoints and manages all other Town department staff. \nThe qualified voters of the Town of Dundee elect the Mayor and Town Commissioners at-large\, meaning they represent all of the citizens in Dundee.  The Mayor and Town Commissioners hold office for four-year terms. \nThe Dundee Town Commission meets the second and fourth Tuesday at 6:30 p.m. at the Town Hall Commission Chambers\, located at 202 East Main Street\, Dundee \, Florida. \nMeeting times\, dates\, and agendas are subject to change.  For current meeting information\, please check the website calendar or contact the Town Clerk at 863-438-8330 ext. 258.
URL:https://townofdundee.com/event/town-commission-meeting-24/
LOCATION:Town Hall\, 202 E. Main Street\, Dundee\, 33838
CATEGORIES:Government Meeting
END:VEVENT
BEGIN:VEVENT
DTSTART;TZID=America/New_York:20221210T180000
DTEND;TZID=America/New_York:20221210T203000
DTSTAMP:20260424T052627
CREATED:20220421T143647Z
LAST-MODIFIED:20221108T165222Z
UID:6168-1670695200-1670704200@townofdundee.com
SUMMARY:Christmas Parade & Mayor Toy Drive
DESCRIPTION:Mayor Toy Drive directly follows the parade at the Community Center
URL:https://townofdundee.com/event/christmas-parade-mayor-toy-drive/
LOCATION:Dundee Community Center\, 603 Lake Marie Boulevard\, Dundee\, FL\, 33838\, United States
CATEGORIES:Festivals/Celebrations
END:VEVENT
BEGIN:VEVENT
DTSTART;TZID=America/New_York:20221202T180000
DTEND;TZID=America/New_York:20221202T193000
DTSTAMP:20260424T052627
CREATED:20220421T143142Z
LAST-MODIFIED:20221108T165246Z
UID:6166-1670004000-1670009400@townofdundee.com
SUMMARY:Christmas Tree Lighting
DESCRIPTION:
URL:https://townofdundee.com/event/christmas-tree-lighting/
LOCATION:Dundee Community Center\, 603 Lake Marie Boulevard\, Dundee\, FL\, 33838\, United States
CATEGORIES:Festivals/Celebrations
END:VEVENT
BEGIN:VEVENT
DTSTART;TZID=America/New_York:20221129T130000
DTEND;TZID=America/New_York:20221129T130000
DTSTAMP:20260424T052627
CREATED:20211220T220045Z
LAST-MODIFIED:20221121T180218Z
UID:5828-1669726800-1669726800@townofdundee.com
SUMMARY:CANCELED Special Magistrate for Code Enforcement Meeting
DESCRIPTION:
URL:https://townofdundee.com/event/special-magistrate-for-code-enforcement-meeting-11/
LOCATION:Town Hall\, 202 E. Main Street\, Dundee\, 33838
CATEGORIES:Government Meeting
END:VEVENT
BEGIN:VEVENT
DTSTART;TZID=America/New_York:20221125T080000
DTEND;TZID=America/New_York:20221125T170000
DTSTAMP:20260424T052627
CREATED:20211220T215902Z
LAST-MODIFIED:20211220T215902Z
UID:5826-1669363200-1669395600@townofdundee.com
SUMMARY:Thanksgiving - Town Offices/Facilities & Library CLOSED
DESCRIPTION:Town Offices/Facilities and the library will be closed in observance of the Thanksgiving holiday.
URL:https://townofdundee.com/event/thanksgiving-town-offices-facilities-library-closed/
LOCATION:Town Hall\, 202 E. Main Street\, Dundee\, 33838
CATEGORIES:Offices Closed
END:VEVENT
BEGIN:VEVENT
DTSTART;TZID=America/New_York:20221124T080000
DTEND;TZID=America/New_York:20221124T170000
DTSTAMP:20260424T052627
CREATED:20211220T215745Z
LAST-MODIFIED:20211220T215745Z
UID:5824-1669276800-1669309200@townofdundee.com
SUMMARY:Thanksgiving - Town Hall & Library CLOSED
DESCRIPTION:Town Offices/Facilities and the library will be closed in observance of the Thanksgiving holiday.
URL:https://townofdundee.com/event/thanksgiving-town-hall-library-closed-2/
LOCATION:Town Hall\, 202 E. Main Street\, Dundee\, 33838
CATEGORIES:Offices Closed
END:VEVENT
BEGIN:VEVENT
DTSTART;TZID=America/New_York:20221122T183000
DTEND;TZID=America/New_York:20221122T183000
DTSTAMP:20260424T052627
CREATED:20211220T215110Z
LAST-MODIFIED:20221014T120003Z
UID:5820-1669141800-1669141800@townofdundee.com
SUMMARY:CANCELLED Town Commission Meeting
DESCRIPTION:The Town of Dundee has a Commission-Manager Form of government.  The Commission-Manager form of government combines the political leadership of elected officials in the form of a Town Commission with the managerial experience of an appointed local government manager.  The Town Commission appoints the Town Manager\, who in turn appoints and manages all other Town department staff. \nThe qualified voters of the Town of Dundee elect the Mayor and Town Commissioners at-large\, meaning they represent all of the citizens in Dundee.  The Mayor and Town Commissioners hold office for four-year terms. \nThe Dundee Town Commission meets the second and fourth Tuesday at 6:30 p.m. at the Town Hall Commission Chambers\, located at 202 East Main Street\, Dundee \, Florida. \nMeeting times\, dates\, and agendas are subject to change.  For current meeting information\, please check the website calendar or contact the Town Clerk at 863-438-8330 ext. 258.
URL:https://townofdundee.com/event/town-commission-meeting-23/
LOCATION:Town Hall\, 202 E. Main Street\, Dundee\, 33838
CATEGORIES:Government Meeting
END:VEVENT
BEGIN:VEVENT
DTSTART;TZID=America/New_York:20221117T173000
DTEND;TZID=America/New_York:20221117T173000
DTSTAMP:20260424T052627
CREATED:20211220T215003Z
LAST-MODIFIED:20221117T183055Z
UID:5818-1668706200-1668706200@townofdundee.com
SUMMARY:CANCELLED Planning & Zoning Board Meeting
DESCRIPTION:The Planning and Zoning Board serves as the Local Planning Agency for the Town of Dundee pursuant to the Local Government Comprehensive Planning and Land Development Regulation Act\, Ch. 163\, Part II\, Florida Statutes\, and perform all functions and duties prescribed in the statute.  As the Local Planning Agency\, the Planning and Zoning Board coordinates the comprehensive planning program and prepares the comprehensive plan\, elements\, or portion thereof for the Town of Dundee and recommends amendments to the Comprehensive Plan to the Town Commission for adoption as needed. \nIn addition to this role\, the Planning and Zoning Board advises and makes recommendations to the Town Commission regarding applications for amendments to the Official Zoning Map\, requests for Special Exceptions or other special designations on property within the Town\, and approval or denial of various development applications. \nThe Planning and Zoning Board is responsible for obtaining and maintaining information on population\, property values\, the land economy\, land use\, and other information necessary to assess the amount\, direction\, and type of development anticipated in the Town.  At the request of the Development Director\, the Planning and Zoning Board interprets and determines the intent of provisions of the Code that are unclear or in conflict with other regulations and considers the need for revision or addition of regulations in the Unified Land Development Code\, including the Land Development Regulations\, and recommend changes to the Town Commission. \nMeetings \nThe Planning and Zoning Board meets on the third Thursday of every month at 5:30p.m. However\, the Chairman of the Planning and Zoning Board may set or cancel a meeting.  Please check the Community Calendar for the most recent scheduling status of an upcoming meeting.
URL:https://townofdundee.com/event/planning-zoning-board-meeting-13/
LOCATION:Town Hall\, 202 E. Main Street\, Dundee\, 33838
CATEGORIES:Government Meeting
END:VEVENT
BEGIN:VEVENT
DTSTART;TZID=America/New_York:20221116T170000
DTEND;TZID=America/New_York:20221116T170000
DTSTAMP:20260424T052627
CREATED:20211220T214857Z
LAST-MODIFIED:20221114T132917Z
UID:5816-1668618000-1668618000@townofdundee.com
SUMMARY:CANCELLED Tree Board Meeting
DESCRIPTION:We are officially a TREE CITY USA and a TREE CITY OF THE WORLD! \nOn the Dundee Tree Board\, residents provide oversight and advice to town management regarding the beautification of the town through the maintenance of the town’s trees\, public flora\, and use of the town tree’s fund. It shall be the responsibility of the Board to study\, investigate\, counsel\, develop\, update annually\, and administer a written plan for the care\, preservation\, pruning\, planting\, replanting\, removal\, or disposition of trees and shrubs in parks\, along streets\, and in other areas of the town.
URL:https://townofdundee.com/event/tree-board-meeting-8/
LOCATION:Town Hall\, 202 E. Main Street\, Dundee\, 33838
CATEGORIES:Government Meeting
END:VEVENT
BEGIN:VEVENT
DTSTART;TZID=America/New_York:20221111T080000
DTEND;TZID=America/New_York:20221111T170000
DTSTAMP:20260424T052627
CREATED:20211220T214757Z
LAST-MODIFIED:20211220T214757Z
UID:5814-1668153600-1668186000@townofdundee.com
SUMMARY:Veterans Day - Town Hall & Library CLOSED
DESCRIPTION:Town Hall and the Library will be closed in observation of Veterans Day.
URL:https://townofdundee.com/event/veterans-day-town-hall-library-closed-2/
LOCATION:Town Hall\, 202 E. Main Street\, Dundee\, 33838
CATEGORIES:Offices Closed
END:VEVENT
END:VCALENDAR